BEGIN:VCALENDAR
VERSION:2.0
PRODID:-//Chemical Engineering GSAC - ECPv5.9.2//NONSGML v1.0//EN
CALSCALE:GREGORIAN
METHOD:PUBLISH
X-WR-CALNAME:Chemical Engineering GSAC
X-ORIGINAL-URL:https://chegsac.utahclubs.org
X-WR-CALDESC:Events for Chemical Engineering GSAC
BEGIN:VTIMEZONE
TZID:UTC
BEGIN:STANDARD
TZOFFSETFROM:+0000
TZOFFSETTO:+0000
TZNAME:UTC
DTSTART:20170101T000000
END:STANDARD
END:VTIMEZONE
BEGIN:VEVENT
DTSTART;TZID=UTC:20170113T110000
DTEND;TZID=UTC:20170113T130000
DTSTAMP:20260421T085201
CREATED:20170110T200243Z
LAST-MODIFIED:20170120T000009Z
UID:572-1484305200-1484312400@chegsac.utahclubs.org
SUMMARY:Beginning of Semester Social
DESCRIPTION:[Best_Wordpress_Gallery id=”4″ gal_title=”Winter Social 2017″]\nJoin GSAC and your fellow grad students to celebrate the beginning of the semester! Food will be provided! There will also be games for everyone to play\, and you can even bring your own! Please RSVP to utahgsac@gmail.com by January 11th\, 2016.
URL:https://chegsac.utahclubs.org/event/beginning-of-semester-social/
LOCATION:MEB 3291 (John A. Williams Conference Room)\, 50 Central Campus Dr\, Salt Lake City\, UT\, 84112\, United States
ORGANIZER;CN="GSAC":MAILTO:utahgsac@gmail.com
END:VEVENT
END:VCALENDAR