BEGIN:VCALENDAR
VERSION:2.0
PRODID:-//Chemical Engineering GSAC - ECPv5.9.2//NONSGML v1.0//EN
CALSCALE:GREGORIAN
METHOD:PUBLISH
X-WR-CALNAME:Chemical Engineering GSAC
X-ORIGINAL-URL:https://chegsac.utahclubs.org
X-WR-CALDESC:Events for Chemical Engineering GSAC
BEGIN:VTIMEZONE
TZID:UTC
BEGIN:STANDARD
TZOFFSETFROM:+0000
TZOFFSETTO:+0000
TZNAME:UTC
DTSTART:20160101T000000
END:STANDARD
END:VTIMEZONE
BEGIN:VEVENT
DTSTART;TZID=UTC:20161121T080000
DTEND;TZID=UTC:20161121T170000
DTSTAMP:20260421T085559
CREATED:20170120T174340Z
LAST-MODIFIED:20170120T174340Z
UID:596-1479715200-1479747600@chegsac.utahclubs.org
SUMMARY:Annual Fall Social
DESCRIPTION:[Best_Wordpress_Gallery id=”1″ gal_title=”Annual Fall Social 2016″]
URL:https://chegsac.utahclubs.org/event/annual-fall-social/
END:VEVENT
END:VCALENDAR